BEGIN:VCALENDAR
VERSION:2.0
PRODID:-//Brandbook - ECPv5.16.4//NONSGML v1.0//EN
CALSCALE:GREGORIAN
METHOD:PUBLISH
X-WR-CALNAME:Brandbook
X-ORIGINAL-URL:https://brandbook.hu
X-WR-CALDESC:Events for Brandbook
BEGIN:VTIMEZONE
TZID:Europe/Budapest
BEGIN:DAYLIGHT
TZOFFSETFROM:+0100
TZOFFSETTO:+0200
TZNAME:CEST
DTSTART:20250330T010000
END:DAYLIGHT
BEGIN:STANDARD
TZOFFSETFROM:+0200
TZOFFSETTO:+0100
TZNAME:CET
DTSTART:20251026T010000
END:STANDARD
END:VTIMEZONE
BEGIN:VEVENT
DTSTART;TZID=Europe/Budapest:20250603T090000
DTEND;TZID=Europe/Budapest:20250603T120000
DTSTAMP:20260422T102111
CREATED:20240429T100838Z
LAST-MODIFIED:20250404T082554Z
UID:10260-1748941200-1748952000@brandbook.hu
SUMMARY:TikTok -és a short videók-  valós üzleti célok szolgálatában
DESCRIPTION:A workshop célja\, hogy pontos képet kapj arról\, hogy hogyan érdemes megközelíteni egy márkának a a short formátumokat (TikTok\, Instagram & Facebook Reels\, YouTube Shorts) stratégiailag\, miképpen hozhatsz ki belőle a legtöbbet – üzleti értelemben\, hiszen nem (csak) a követők és a lájkok\, hanem az eredmények számítanak. \nEsettanulmányok segítségével megismerheted az elmúlt évek legjobb gyakorlatait. \nTovábbi témák:\nA profi short videó tartalomgyártás alapjai \n\nMilyen alappillérei vannak egy hatékony gyártó csapatnak? Mekkora stáb és milyen eszközigény szükséges? Mik a gyártási folyamat legfontosabb és megkerülhetetlen lépései?\n\nHogyan találjuk meg saját hangunkat a TikTok-on és a többi short videós platformon? \n\nAmikor saját csatornát építünk\, ezen keresztül megalkotjuk a márkánk identitását is. Gyakorlatilag felépítjük a saját influencerünket. Ez egy nagy tudatosságot igénylő\, érzékeny folyamat. Példákon keresztül vezetünk végig és interaktív beszélgetéseken keresztül segítünk megtalálni a megfelelő saját hangot\, mely közelebb hozza a nézőket a vásárlói döntéshez.\n\nA workshopot neked ajánljuk\, ha \n\nszeretnéd jobban megérteni\, mit lehet a TikTok és a többi short videóból üzletileg maximalizálni\nmár eldöntötted\, hogy bele szeretnél vágni\, de nem tudod\, hogyan is kezdj bele.\nmár jelen vagy a platformon és vannak elakadásai\, kérdései.\n\nA workshop során kilépünk a frontális oktatásból és az interaktív délelőtt során a résztvevők problémáira is megoldást keresünk – közösen. \nElőadók:\n\n\n\nBendl Mátyás (a POME alapítója\, mely 20 éve a youth marketing és média meghatározója szereplője a magyar piacon)\, Gyurkovics Virág (a tartalomgyártó üzletág vezetője\, 5 év tévés és 1 000+ short videós tapasztalattal)\, Kovács Ivett (TikTok copywriter)
URL:https://brandbook.hu/esemeny/tiktok-a-valos-uzleti-celok-szolgalataban
LOCATION:Zoom\, Magyarország
CATEGORIES:Akadémia
ATTACH;FMTTYPE=image/jpeg:https://brandbook.hu/wp-content/uploads/2024/04/GettyImages-1401773593.jpg
END:VEVENT
END:VCALENDAR