BEGIN:VCALENDAR
VERSION:2.0
PRODID:-//Brandbook - ECPv5.16.4//NONSGML v1.0//EN
CALSCALE:GREGORIAN
METHOD:PUBLISH
X-WR-CALNAME:Brandbook
X-ORIGINAL-URL:https://brandbook.hu
X-WR-CALDESC:Events for Brandbook
BEGIN:VTIMEZONE
TZID:Europe/Budapest
BEGIN:DAYLIGHT
TZOFFSETFROM:+0100
TZOFFSETTO:+0200
TZNAME:CEST
DTSTART:20250330T010000
END:DAYLIGHT
BEGIN:STANDARD
TZOFFSETFROM:+0200
TZOFFSETTO:+0100
TZNAME:CET
DTSTART:20251026T010000
END:STANDARD
END:VTIMEZONE
BEGIN:VEVENT
DTSTART;TZID=Europe/Budapest:20251203T090000
DTEND;TZID=Europe/Budapest:20251203T130000
DTSTAMP:20260420T082422
CREATED:20190426T114916Z
LAST-MODIFIED:20250919T122740Z
UID:4994-1764752400-1764766800@brandbook.hu
SUMMARY:Kreatív megoldások
DESCRIPTION:Mitől kreatív egy probléma megoldása? A napi üzletmenet folyamatosan gyártja a feladatokat. Ezekhez gyakran van megoldókulcsunk\, de néha valami hiányzik.\nMennyire vagyunk kreatívak és mennyire kreatív a csapatunk?\nHogyan fordítsuk az aktuális problémát egy új lehetőségbe?\n\nA kurzus résztvevői megismerkedhetnek azzal\, hogyan mérhetik fel egy a Cambridge University kutatói által kifejlesztett módszertan alapján a kreativitás alapelemeire építve maguk és csapatuk kreativitását és hogyan fejlesszék azt élményközpontú vagy akár a komfortzóna mezsgyéjén járó gyakorlatokkal. \n  \nElőadó: \n\n\n\n\n\nNémeth Szilvia\nA Kreatív Tanulás és Oktatás Alapítvány operatív vezetője\, az OECD CERI „Assessing progression in creative and critical thinking skills” nemzetközi projekt magyarországi koordinátora. Pedagógia tanári és szociológus végzettségű\, 2003 óta foglalkozik oktatáskutatással. Vezet empirikus és kvalitatív kutatásokat\, részt vesz projektek értékelésében\, valamint számos nemzetközi együttműködésben is.
URL:https://brandbook.hu/esemeny/kreativ-megoldasok
LOCATION:Zoom\, Magyarország
CATEGORIES:Akadémia
ATTACH;FMTTYPE=image/jpeg:https://brandbook.hu/wp-content/uploads/2025/09/Kreativ_megoldasok_workshop-scaled.jpg
END:VEVENT
END:VCALENDAR