BEGIN:VCALENDAR
VERSION:2.0
PRODID:-//Brandbook - ECPv5.16.4//NONSGML v1.0//EN
CALSCALE:GREGORIAN
METHOD:PUBLISH
X-WR-CALNAME:Brandbook
X-ORIGINAL-URL:https://brandbook.hu
X-WR-CALDESC:Events for Brandbook
BEGIN:VTIMEZONE
TZID:Europe/Budapest
BEGIN:DAYLIGHT
TZOFFSETFROM:+0100
TZOFFSETTO:+0200
TZNAME:CEST
DTSTART:20240331T010000
END:DAYLIGHT
BEGIN:STANDARD
TZOFFSETFROM:+0200
TZOFFSETTO:+0100
TZNAME:CET
DTSTART:20241027T010000
END:STANDARD
END:VTIMEZONE
BEGIN:VEVENT
DTSTART;TZID=Europe/Budapest:20240830T131033
DTEND;TZID=Europe/Budapest:20240830T131033
DTSTAMP:20260421T101747
CREATED:20220920T125821Z
LAST-MODIFIED:20240830T131033Z
UID:8847-1725023433-1725023433@brandbook.hu
SUMMARY:Imázsvizsgálatok\, mint a márkastratégia alapja
DESCRIPTION:A workshop bevezetést nyújt az imázsvizsgálat módszertanába\, bemutatja az imázs és a márkaérték kapcsolatát. Gyakorlati példákon keresztül ismerteti az attitűdök imázsépítő szerepét\, továbbá azt\, hogy a versenytárs márkák attitűd-\, és imázskülönbségei hogyan használhatók fel a marketingkommunikáció tervezésében. Foglalkozik az imázsréssel és az imázstranszfer jelentőségével is a márkaépítés során. \nA workshop Brands Klub Tagoknak ingyenes\, de regisztrációhoz kötött. \nElőadó:\n\n\n\nDr. Totth Gedeon\nA Budapesti Gazdasági Egyetem marketing tanszékének szaktanácsadója\, tanára\, c. főiskolai tanár. Több hazai és külföldi egyetemen oktatott marketinget. Témavezetőként vesz részt a Magyar Agrár- és Élettudományi Egyetem\, Gazdaság- és Regionális Tudományi Doktori Iskola munkájában. Több szakmai szervezetben rendelkezik tisztségekkel\, tagja a Hamisítás Elleni Nemzeti Testületnek\, a Magyar Marketing Szövetség elnökségi tagja\, az Agrár- és Élelmiszermarketing Tagozat vezetője\, emellett a MagyarBrands Szakmai bizottságának tagja\, valamint a Business Superbrands Szakmai bizottságának frissen megválasztott elnöke.
URL:https://brandbook.hu/esemeny/imazsvizsgalatok-mint-a-markastrategia-alapja
LOCATION:BrandExcellence HQ\, Vihar u. 18.\, Budapest\, 1035\, Magyarország
CATEGORIES:Egyeztetés alatt
ATTACH;FMTTYPE=image/jpeg:https://brandbook.hu/wp-content/uploads/2022/09/Imazsvizsgalatok.jpg
END:VEVENT
END:VCALENDAR